BEGIN:VCALENDAR
VERSION:2.0
PRODID:-//Traumjob Golfplatz - ECPv6.15.12.2//NONSGML v1.0//EN
CALSCALE:GREGORIAN
METHOD:PUBLISH
X-ORIGINAL-URL:https://traumjob-golfplatz.de
X-WR-CALDESC:Veranstaltungen für Traumjob Golfplatz
REFRESH-INTERVAL;VALUE=DURATION:PT1H
X-Robots-Tag:noindex
X-PUBLISHED-TTL:PT1H
BEGIN:VTIMEZONE
TZID:Europe/Berlin
BEGIN:DAYLIGHT
TZOFFSETFROM:+0100
TZOFFSETTO:+0200
TZNAME:CEST
DTSTART:20240331T010000
END:DAYLIGHT
BEGIN:STANDARD
TZOFFSETFROM:+0200
TZOFFSETTO:+0100
TZNAME:CET
DTSTART:20241027T010000
END:STANDARD
BEGIN:DAYLIGHT
TZOFFSETFROM:+0100
TZOFFSETTO:+0200
TZNAME:CEST
DTSTART:20250330T010000
END:DAYLIGHT
BEGIN:STANDARD
TZOFFSETFROM:+0200
TZOFFSETTO:+0100
TZNAME:CET
DTSTART:20251026T010000
END:STANDARD
BEGIN:DAYLIGHT
TZOFFSETFROM:+0100
TZOFFSETTO:+0200
TZNAME:CEST
DTSTART:20260329T010000
END:DAYLIGHT
BEGIN:STANDARD
TZOFFSETFROM:+0200
TZOFFSETTO:+0100
TZNAME:CET
DTSTART:20261025T010000
END:STANDARD
END:VTIMEZONE
BEGIN:VEVENT
DTSTART;VALUE=DATE:20251108
DTEND;VALUE=DATE:20251129
DTSTAMP:20260425T004136
CREATED:20250805T093559Z
LAST-MODIFIED:20250807T081314Z
UID:10000054-1762560000-1764374399@traumjob-golfplatz.de
SUMMARY:Ausbildung Golfsekretär (DGV)
DESCRIPTION:„Die Ausbildung Golfsekretär (DGV) vermittelt die wichtigsten Inhalte für eine Tätigkeit im Golfclubsekretariat. Die Mitarbeitenden des Sekretariats unterstützen in erster Linie die ehrenamtlich tätigen Vorstandsmitglieder und sind erste „Anlaufstelle“ für Mitglieder und Kunden. Spiel- und Wettspielabwicklung sowie Mitglieder- und Kundenbetreuung stehen im Fokus der täglichen Arbeit. Die Teilnehmenden sollen im Rahmen der vom Vorstand bzw. von der Geschäftsführung eingeräumten Vollmachten in der Lage sein\, in einem Sekretariat selbständig zu arbeiten. Themen der Ausbildung sind u.a.: Grundlagen Golfsport\, Golfregeln und -regularien\, Wettspielabwicklung\, Grundlagen Mitglieder- und Kundenmanagement\, Grundlagen des Verkaufs\, Marketing-Grundlagen\, Informationstechnologie-Anwendungen im Golfbereich\, moderne IT-Kommunikationsmittel\, Grundlagen der Datensicherheit und des Datenschutzes. Die Ausbildung schließt mit einer Prüfung ab.\nDer angezeigte Preis gilt aufgrund steuerlicher Vorschriften für Mitarbeitende und Ehrenamtliche gemeinnütziger Vereine (DGV-Mitglieder). Preis für andere Teilnehmende: 1.500\,00 €“
URL:https://traumjob-golfplatz.de/event/ausbildung-golfsekretaer-dgv/
LOCATION:Sportschule Hennef\, Sövener Straße 60\, Hennef\, 53773\, Germany
CATEGORIES:Management
ORGANIZER;CN="Deutscher Golf Verband e.V.":MAILTO:info@dgv.golf.de
END:VEVENT
END:VCALENDAR