BEGIN:VCALENDAR
VERSION:2.0
PRODID:-//Traumjob Golfplatz - ECPv6.15.12.2//NONSGML v1.0//EN
CALSCALE:GREGORIAN
METHOD:PUBLISH
X-ORIGINAL-URL:https://traumjob-golfplatz.de
X-WR-CALDESC:Veranstaltungen für Traumjob Golfplatz
REFRESH-INTERVAL;VALUE=DURATION:PT1H
X-Robots-Tag:noindex
X-PUBLISHED-TTL:PT1H
BEGIN:VTIMEZONE
TZID:Europe/Berlin
BEGIN:DAYLIGHT
TZOFFSETFROM:+0100
TZOFFSETTO:+0200
TZNAME:CEST
DTSTART:20250330T010000
END:DAYLIGHT
BEGIN:STANDARD
TZOFFSETFROM:+0200
TZOFFSETTO:+0100
TZNAME:CET
DTSTART:20251026T010000
END:STANDARD
BEGIN:DAYLIGHT
TZOFFSETFROM:+0100
TZOFFSETTO:+0200
TZNAME:CEST
DTSTART:20260329T010000
END:DAYLIGHT
BEGIN:STANDARD
TZOFFSETFROM:+0200
TZOFFSETTO:+0100
TZNAME:CET
DTSTART:20261025T010000
END:STANDARD
BEGIN:DAYLIGHT
TZOFFSETFROM:+0100
TZOFFSETTO:+0200
TZNAME:CEST
DTSTART:20270328T010000
END:DAYLIGHT
BEGIN:STANDARD
TZOFFSETFROM:+0200
TZOFFSETTO:+0100
TZNAME:CET
DTSTART:20271031T010000
END:STANDARD
END:VTIMEZONE
BEGIN:VEVENT
DTSTART;VALUE=DATE:20260302
DTEND;VALUE=DATE:20260314
DTSTAMP:20260424T190703
CREATED:20250613T111719Z
LAST-MODIFIED:20250613T132522Z
UID:10000036-1772409600-1773446399@traumjob-golfplatz.de
SUMMARY:Qualifizierter Platzarbeiter
DESCRIPTION:Dieser Kurs ist DER Einstieg in die Golfplatzpflege. Die Teilnehmer:innen erwerben von erfahrenen Referent:innen aus der grünen Rasen-Szene fachliche Grundkenntnisse im Umgang mit Maschinen\, Rasenpflege und Platzpflege sowie notwendiges Wissen zur eigenverantwortlichen Durchführung von verschiedenen Aufgabenbereichen auf dem Golfplatz. Verständliche Erklärungen und direkter Praxisbezug sorgen dafür\, dass Lernen Spaß macht.
URL:https://traumjob-golfplatz.de/event/__trashed-39/
LOCATION:DEULA Bayern\, Wippenhauser Strasse 65\, Freising\, 85354.0\, Germany
CATEGORIES:Grüne Berufe
END:VEVENT
END:VCALENDAR