BEGIN:VCALENDAR
VERSION:2.0
PRODID:-//Traumjob Golfplatz - ECPv6.15.12.2//NONSGML v1.0//EN
CALSCALE:GREGORIAN
METHOD:PUBLISH
X-ORIGINAL-URL:https://traumjob-golfplatz.de
X-WR-CALDESC:Veranstaltungen für Traumjob Golfplatz
REFRESH-INTERVAL;VALUE=DURATION:PT1H
X-Robots-Tag:noindex
X-PUBLISHED-TTL:PT1H
BEGIN:VTIMEZONE
TZID:Europe/Berlin
BEGIN:DAYLIGHT
TZOFFSETFROM:+0100
TZOFFSETTO:+0200
TZNAME:CEST
DTSTART:20250330T010000
END:DAYLIGHT
BEGIN:STANDARD
TZOFFSETFROM:+0200
TZOFFSETTO:+0100
TZNAME:CET
DTSTART:20251026T010000
END:STANDARD
BEGIN:DAYLIGHT
TZOFFSETFROM:+0100
TZOFFSETTO:+0200
TZNAME:CEST
DTSTART:20260329T010000
END:DAYLIGHT
BEGIN:STANDARD
TZOFFSETFROM:+0200
TZOFFSETTO:+0100
TZNAME:CET
DTSTART:20261025T010000
END:STANDARD
BEGIN:DAYLIGHT
TZOFFSETFROM:+0100
TZOFFSETTO:+0200
TZNAME:CEST
DTSTART:20270328T010000
END:DAYLIGHT
BEGIN:STANDARD
TZOFFSETFROM:+0200
TZOFFSETTO:+0100
TZNAME:CET
DTSTART:20271031T010000
END:STANDARD
BEGIN:DAYLIGHT
TZOFFSETFROM:+0100
TZOFFSETTO:+0200
TZNAME:CEST
DTSTART:20280326T010000
END:DAYLIGHT
BEGIN:STANDARD
TZOFFSETFROM:+0200
TZOFFSETTO:+0100
TZNAME:CET
DTSTART:20281029T010000
END:STANDARD
END:VTIMEZONE
BEGIN:VEVENT
DTSTART;VALUE=DATE:20260925
DTEND;VALUE=DATE:20260928
DTSTAMP:20260424T150038
CREATED:20251201T094411Z
LAST-MODIFIED:20251201T094411Z
UID:10000090-1790294400-1790553599@traumjob-golfplatz.de
SUMMARY:PGA PreCourse - Tutorenseminar 1 /Ausbildung Golflehrer
DESCRIPTION:Der PGA PreCourse bereitet Interessenten auf die Ausbildung zum PGA Professional vor. Er vermittelt Kompetenzen für die Erteilung von Kinder- und Jugendtraining sowie grundlegendes Know-how für die Ausübung des Golflehrerberufs und beinhaltet auch die C-Trainer-Lizenz Golf Breitensport. Der PGA PreCourse besteht aus insgesamt zwei Präsenzseminaren\, einem Online-Seminar und zwei praktischen Ausbildungswochenenden (Tutorenseminare). Der Preis gilt für den gesamten Kurs\, die Seminare sind nicht einzeln buchbar.
URL:https://traumjob-golfplatz.de/event/pga-precourse-tutorenseminar-1-ausbildung-golflehrer-2/
LOCATION:Die Tutorenseminare finden in Kleingruppen statt und werden an drei bis vier Orten durchgeführt\, die sich auf das Bundesgebiet verteilen. Die Zuteilung der Teilnehmer erfolgt durch die PGA und orientiert sich an den Postleitzahlen der Wohnorte.\, Germany
CATEGORIES:Sport
ORGANIZER;CN="PGA of Germany":MAILTO:info@pga.de
END:VEVENT
BEGIN:VEVENT
DTSTART;VALUE=DATE:20261008
DTEND;VALUE=DATE:20261012
DTSTAMP:20260424T150038
CREATED:20251201T094634Z
LAST-MODIFIED:20251201T094655Z
UID:10000091-1791417600-1791763199@traumjob-golfplatz.de
SUMMARY:PGA PreCourse - Präsenzseminar 2 /Ausbildung Golflehrer
DESCRIPTION:Der PGA PreCourse bereitet Interessenten auf die Ausbildung zum PGA Professional vor. Er vermittelt Kompetenzen für die Erteilung von Kinder- und Jugendtraining sowie grundlegendes Know-how für die Ausübung des Golflehrerberufs und beinhaltet auch die C-Trainer-Lizenz Golf Breitensport. Der PGA PreCourse besteht aus insgesamt zwei Präsenzseminaren\, einem Online-Seminar und zwei praktischen Ausbildungswochenenden (Tutorenseminare). Der Preis gilt für den gesamten Kurs\, die Seminare sind nicht einzeln buchbar.
URL:https://traumjob-golfplatz.de/event/pga-precourse-praesenzseminar-2-ausbildung-golflehrer-2/
LOCATION:Bad Abbach\, Gut Deutenhof\, Bad Abbach\, 93007
CATEGORIES:Sport
ORGANIZER;CN="PGA of Germany":MAILTO:info@pga.de
END:VEVENT
BEGIN:VEVENT
DTSTART;VALUE=DATE:20261105
DTEND;VALUE=DATE:20261109
DTSTAMP:20260424T150038
CREATED:20251201T093938Z
LAST-MODIFIED:20251201T093938Z
UID:10000089-1793836800-1794182399@traumjob-golfplatz.de
SUMMARY:PGA PreCourse - Tutorenseminar 2 (inkl. Prüfung) /Ausbildung Golflehrer
DESCRIPTION:Der PGA PreCourse bereitet Interessenten auf die Ausbildung zum PGA Professional vor. Er vermittelt Kompetenzen für die Erteilung von Kinder- und Jugendtraining sowie grundlegendes Know-how für die Ausübung des Golflehrerberufs und beinhaltet auch die C-Trainer-Lizenz Golf Breitensport. Der PGA PreCourse besteht aus insgesamt zwei Präsenzseminaren\, einem Online-Seminar und zwei praktischen Ausbildungswochenenden (Tutorenseminare). Der Preis gilt für den gesamten Kurs\, die Seminare sind nicht einzeln buchbar.
URL:https://traumjob-golfplatz.de/event/pga-precourse-tutorenseminar-2-inkl-pruefung-ausbildung-golflehrer-2/
LOCATION:Die Tutorenseminare finden in Kleingruppen statt und werden an drei bis vier Orten durchgeführt\, die sich auf das Bundesgebiet verteilen. Die Zuteilung der Teilnehmer erfolgt durch die PGA und orientiert sich an den Postleitzahlen der Wohnorte.\, Germany
CATEGORIES:Sport
ORGANIZER;CN="PGA of Germany":MAILTO:info@pga.de
END:VEVENT
BEGIN:VEVENT
DTSTART;TZID=Europe/Berlin:20261109T090000
DTEND;TZID=Europe/Berlin:20261109T150000
DTSTAMP:20260424T150038
CREATED:20260317T094216Z
LAST-MODIFIED:20260317T094216Z
UID:10000093-1794214800-1794236400@traumjob-golfplatz.de
SUMMARY:Golfkongress 2026
DESCRIPTION:Der Golfkongress ist ein wichtiger Branchentreff der Golfszene in der D-A-CH-Region. Der Kongress steht für Wissenstransfer\, persönliche Begegnungen und aktiven Gedankenaustausch. Er richtet sich an im Golf- und Clubmanagement hauptberuflich tätige Personen\, ehren- und hauptamtliche Golfclub-Vertreter\, an Golfanlagen-\, Golfschul- und Golfshopbetreiber sowie an Verbands-/Golfindustrie-Repräsentanten. Selbstverständlich sind auch an der Golfbranche interessierte Gäste herzlich willkommen.
URL:https://traumjob-golfplatz.de/event/golfkongress-2026/
LOCATION:Gräflicher Park Health & Balance Resort\, Gräflicher Park Health & Balance Resort\, Bad Driburg\, 33014\, Germany
ORGANIZER;CN="Golf Management Verband Deutschland":MAILTO:https://www.gmvd.de/verband/veranstaltungskalender/listenansicht.html
END:VEVENT
BEGIN:VEVENT
DTSTART;VALUE=DATE:20261113
DTEND;VALUE=DATE:20261114
DTSTAMP:20260424T150038
CREATED:20251030T080148Z
LAST-MODIFIED:20251030T104658Z
UID:10000075-1794528000-1794614399@traumjob-golfplatz.de
SUMMARY:PGA Eingangstest /Ausbildung Golflehrer
DESCRIPTION:Der Eingangstest ist neben dem PreCourse bzw. einer gültigen C-.Trainer-Lizenz Golf eine Zulassungsvoraussetzung für die PGA Modulausbildung zum Golflehrer. Es werden Fragen zum Regelwissen sowie zu golftechnischen Grundlagen gestellt.
URL:https://traumjob-golfplatz.de/event/pga-eingangstest-ausbildung-golflehrer/
LOCATION:online\, Germany
CATEGORIES:Sport
ORGANIZER;CN="PGA of Germany":MAILTO:info@pga.de
END:VEVENT
BEGIN:VEVENT
DTSTART;VALUE=DATE:20261117
DTEND;VALUE=DATE:20261119
DTSTAMP:20260424T150038
CREATED:20250613T111719Z
LAST-MODIFIED:20250624T112634Z
UID:10000047-1794873600-1795046399@traumjob-golfplatz.de
SUMMARY:Greenkeeper Bayern - Herbstagung
DESCRIPTION:Informationen zum Programm folgen.
URL:https://traumjob-golfplatz.de/event/__trashed-25/
LOCATION:noch offen\, Bad Windsheim\, 91438.0\, Germany
CATEGORIES:Grüne Berufe
END:VEVENT
BEGIN:VEVENT
DTSTART;VALUE=DATE:20261130
DTEND;VALUE=DATE:20271211
DTSTAMP:20260424T150038
CREATED:20250613T111719Z
LAST-MODIFIED:20250613T112922Z
UID:10000034-1795996800-1828483199@traumjob-golfplatz.de
SUMMARY:Fachagrarwirt Head-Greenkeeper
DESCRIPTION:Aufbauend auf einer fundierten Berufserfahrung als Fachagrarwirt:in Golfplatzpflege – Greenkeeper oder Fachagrarwirt:in Sportplatzpflege\, vermittelt der Lehrgang die spezifischen Kenntnisse und Fertigkeiten für das Aufgabenspektrum von Head-Greenkeeper:innen als als Führungspersönlichkeiten.
URL:https://traumjob-golfplatz.de/event/__trashed-3/
LOCATION:DEULA Bayern\, Wippenhauser Strasse 65\, Freising\, 85354.0\, Germany
CATEGORIES:Grüne Berufe
END:VEVENT
END:VCALENDAR