BEGIN:VCALENDAR
VERSION:2.0
PRODID:-//Traumjob Golfplatz - ECPv6.15.12.2//NONSGML v1.0//EN
CALSCALE:GREGORIAN
METHOD:PUBLISH
X-ORIGINAL-URL:https://traumjob-golfplatz.de
X-WR-CALDESC:Veranstaltungen für Traumjob Golfplatz
REFRESH-INTERVAL;VALUE=DURATION:PT1H
X-Robots-Tag:noindex
X-PUBLISHED-TTL:PT1H
BEGIN:VTIMEZONE
TZID:Europe/Berlin
BEGIN:DAYLIGHT
TZOFFSETFROM:+0100
TZOFFSETTO:+0200
TZNAME:CEST
DTSTART:20240331T010000
END:DAYLIGHT
BEGIN:STANDARD
TZOFFSETFROM:+0200
TZOFFSETTO:+0100
TZNAME:CET
DTSTART:20241027T010000
END:STANDARD
BEGIN:DAYLIGHT
TZOFFSETFROM:+0100
TZOFFSETTO:+0200
TZNAME:CEST
DTSTART:20250330T010000
END:DAYLIGHT
BEGIN:STANDARD
TZOFFSETFROM:+0200
TZOFFSETTO:+0100
TZNAME:CET
DTSTART:20251026T010000
END:STANDARD
BEGIN:DAYLIGHT
TZOFFSETFROM:+0100
TZOFFSETTO:+0200
TZNAME:CEST
DTSTART:20260329T010000
END:DAYLIGHT
BEGIN:STANDARD
TZOFFSETFROM:+0200
TZOFFSETTO:+0100
TZNAME:CET
DTSTART:20261025T010000
END:STANDARD
END:VTIMEZONE
BEGIN:VEVENT
DTSTART;VALUE=DATE:20250807
DTEND;VALUE=DATE:20250811
DTSTAMP:20260425T031152
CREATED:20250613T111720Z
LAST-MODIFIED:20250613T133346Z
UID:10000048-1754524800-1754870399@traumjob-golfplatz.de
SUMMARY:PGA PreCourse - Präsenzseminar 1
DESCRIPTION:Der PGA PreCourse bereitet Interessenten auf die Ausbildung zum PGA Professional vor. Er vermittelt Kompetenzen für die Erteilung von Kinder- und Jugendtraining sowie grundlegendes Know-how für die Ausübung des Golflehrerberufs und beinhaltet auch die C-Trainer-Lizenz Golf Breitensport. Der PGA PreCourse besteht aus insgesamt zwei Präsenzseminaren\, einem Online-Seminar und zwei praktischen Ausbildungswochenenden (Tutorenseminare). Der Preis gilt für den gesamten Kurs\, die Seminare sind nicht einzeln buchbar.
URL:https://traumjob-golfplatz.de/event/__trashed-31/
LOCATION:Sporthotel Grünberg\, Am Tannenkopf 1\, Grünberg\, 35305.0\, Germany
CATEGORIES:Sport
ORGANIZER;CN="PGA of Germany":MAILTO:info@pga.de
END:VEVENT
END:VCALENDAR