BEGIN:VCALENDAR
VERSION:2.0
PRODID:-//Traumjob Golfplatz - ECPv6.15.12.2//NONSGML v1.0//EN
CALSCALE:GREGORIAN
METHOD:PUBLISH
X-ORIGINAL-URL:https://traumjob-golfplatz.de
X-WR-CALDESC:Veranstaltungen für Traumjob Golfplatz
REFRESH-INTERVAL;VALUE=DURATION:PT1H
X-Robots-Tag:noindex
X-PUBLISHED-TTL:PT1H
BEGIN:VTIMEZONE
TZID:Europe/Berlin
BEGIN:DAYLIGHT
TZOFFSETFROM:+0100
TZOFFSETTO:+0200
TZNAME:CEST
DTSTART:20240331T010000
END:DAYLIGHT
BEGIN:STANDARD
TZOFFSETFROM:+0200
TZOFFSETTO:+0100
TZNAME:CET
DTSTART:20241027T010000
END:STANDARD
BEGIN:DAYLIGHT
TZOFFSETFROM:+0100
TZOFFSETTO:+0200
TZNAME:CEST
DTSTART:20250330T010000
END:DAYLIGHT
BEGIN:STANDARD
TZOFFSETFROM:+0200
TZOFFSETTO:+0100
TZNAME:CET
DTSTART:20251026T010000
END:STANDARD
BEGIN:DAYLIGHT
TZOFFSETFROM:+0100
TZOFFSETTO:+0200
TZNAME:CEST
DTSTART:20260329T010000
END:DAYLIGHT
BEGIN:STANDARD
TZOFFSETFROM:+0200
TZOFFSETTO:+0100
TZNAME:CET
DTSTART:20261025T010000
END:STANDARD
BEGIN:DAYLIGHT
TZOFFSETFROM:+0100
TZOFFSETTO:+0200
TZNAME:CEST
DTSTART:20270328T010000
END:DAYLIGHT
BEGIN:STANDARD
TZOFFSETFROM:+0200
TZOFFSETTO:+0100
TZNAME:CET
DTSTART:20271031T010000
END:STANDARD
END:VTIMEZONE
BEGIN:VEVENT
DTSTART;VALUE=DATE:20251208
DTEND;VALUE=DATE:20251212
DTSTAMP:20260424T215731
CREATED:20251201T095941Z
LAST-MODIFIED:20251201T095941Z
UID:10000092-1765152000-1765497599@traumjob-golfplatz.de
SUMMARY:Golfbetriebsassistent - Modul 1
DESCRIPTION:„Einzelmodul 1 der Ausbildung Golfbetriebsassistent (DGV)\nDie Teilnehmenden erlangen u.a. tiefergehende Kenntnisse zu folgenden Themen: Golfregeln und -regularien\, Organisation von Proshop\, Golfschule oder Gastronomie in Eigenregie\, Öffentlichkeitsarbeit und Sponsoring. Das Einzelmodul richtet sich an Mitarbeitende von Golfanlagen\, die Wissen erlangen wollen\, ohne eine Abschlussprüfung zu absolvieren.\nDer angezeigte Preis gilt aufgrund steuerlicher Vorschriften für Mitarbeitende und Ehrenamtliche gemeinnütziger Vereine (DGV-Mitglieder). Preis für andere Teilnehmende: 1.050\,00“
URL:https://traumjob-golfplatz.de/event/golfbetriebsassistent-modul-1-2/
LOCATION:Sportschule Hennef\, Sövener Straße 60\, Hennef\, 53773\, Germany
CATEGORIES:Management
ORGANIZER;CN="Deutscher Golf Verband e.V.":MAILTO:info@dgv.golf.de
END:VEVENT
BEGIN:VEVENT
DTSTART;VALUE=DATE:20251208
DTEND;VALUE=DATE:20260312
DTSTAMP:20260424T215731
CREATED:20250805T093559Z
LAST-MODIFIED:20250807T081348Z
UID:10000055-1765152000-1773273599@traumjob-golfplatz.de
SUMMARY:Ausbildung Golfbetriebsassistent (DGV)
DESCRIPTION:„Golfbetriebsassistenten (DGV) unterstützen den Vorstand\, die Geschäftsführung bzw. das Clubmanagement bei ihren Führungsaufgaben auf einer Golfanlage und bilden die Schnittstelle zwischen Sekretariat und Management. Sie sind verantwortlich für die Organisation und die Abläufe im Golfsekretariat und sollen in der Lage sein\, ein Golfsekretariat zu leiten. Themen der Ausbildung sind u.a.: Betriebswirtschaftliche Grundlagen\, Administration\, Verwaltung und Organisation der Golfanlage\, Grundlagen der Personalführung\, Marketing\, Golfsport\, Golfregeln und -regularien. Die Ausbildung schließt mit einer Prüfung ab.\nDer angezeigte Preis gilt aufgrund steuerlicher Vorschriften für Mitarbeitende und Ehrenamtliche gemeinnütziger Vereine (DGV-Mitglieder). Preis für andere Teilnehmende: 2.250\,00 €“
URL:https://traumjob-golfplatz.de/event/ausbildung-golfbetriebsassistent-dgv/
LOCATION:Sportschule Hennef\, Sövener Straße 60\, Hennef\, 53773\, Germany
CATEGORIES:Management
ORGANIZER;CN="Deutscher Golf Verband e.V.":MAILTO:info@dgv.golf.de
END:VEVENT
END:VCALENDAR