BEGIN:VCALENDAR
VERSION:2.0
PRODID:-//Traumjob Golfplatz - ECPv6.15.12.2//NONSGML v1.0//EN
CALSCALE:GREGORIAN
METHOD:PUBLISH
X-WR-CALNAME:Traumjob Golfplatz
X-ORIGINAL-URL:https://traumjob-golfplatz.de
X-WR-CALDESC:Veranstaltungen für Traumjob Golfplatz
REFRESH-INTERVAL;VALUE=DURATION:PT1H
X-Robots-Tag:noindex
X-PUBLISHED-TTL:PT1H
BEGIN:VTIMEZONE
TZID:Europe/Berlin
BEGIN:DAYLIGHT
TZOFFSETFROM:+0100
TZOFFSETTO:+0200
TZNAME:CEST
DTSTART:20240331T010000
END:DAYLIGHT
BEGIN:STANDARD
TZOFFSETFROM:+0200
TZOFFSETTO:+0100
TZNAME:CET
DTSTART:20241027T010000
END:STANDARD
BEGIN:DAYLIGHT
TZOFFSETFROM:+0100
TZOFFSETTO:+0200
TZNAME:CEST
DTSTART:20250330T010000
END:DAYLIGHT
BEGIN:STANDARD
TZOFFSETFROM:+0200
TZOFFSETTO:+0100
TZNAME:CET
DTSTART:20251026T010000
END:STANDARD
BEGIN:DAYLIGHT
TZOFFSETFROM:+0100
TZOFFSETTO:+0200
TZNAME:CEST
DTSTART:20260329T010000
END:DAYLIGHT
BEGIN:STANDARD
TZOFFSETFROM:+0200
TZOFFSETTO:+0100
TZNAME:CET
DTSTART:20261025T010000
END:STANDARD
BEGIN:DAYLIGHT
TZOFFSETFROM:+0100
TZOFFSETTO:+0200
TZNAME:CEST
DTSTART:20270328T010000
END:DAYLIGHT
BEGIN:STANDARD
TZOFFSETFROM:+0200
TZOFFSETTO:+0100
TZNAME:CET
DTSTART:20271031T010000
END:STANDARD
END:VTIMEZONE
BEGIN:VEVENT
DTSTART;VALUE=DATE:20260201
DTEND;VALUE=DATE:20260202
DTSTAMP:20260424T175207
CREATED:20251030T085456Z
LAST-MODIFIED:20251030T085456Z
UID:10000088-1769904000-1769990399@traumjob-golfplatz.de
SUMMARY:Beginn PGA Modulausbildung I / Ausbildung  Golflehrer
DESCRIPTION:Wer den PGA PreCourse (alternativ: C-Trainer Golf) sowie den Eingangstest erfolgreich bestanden hat und mindestens 16 Jahre alt ist\, kann mit der PGA Modulausbildung I zum Golflehrer beginnen. Diese kann als Vollzeitausbildung oder als berufsbegleitende Ausbildung (ab 18 Jahren) absolviert werden. Sie umfasst drei sechstägige Seminare sowie einen betrieblichen Ausbildungsanteil. Zudem müssen die Auszubildenden an fünf Turnierrunden teilnehmen. Diejenigen\, die ihre Ausbildung berufsbegleitend durchlaufen\, können wählen\, ob sie ein Praktikum ableisten oder die angebotenen Tutorenseminare besuchen möchten; alle anderen schließen einen Ausbildungsvertrag mit einem Golfbetrieb. Nach rund neun Monaten schließt die Modulausbildung I mit der PGA Assistant-Prüfung ab. Damit sind sie qualifiziert\, Anfängerunterricht für Schüler aller Altersklassen zu geben und können Schnupper- und Platzreifekurse sowie Grundlagentraining für Kinder und Jugendliche durchführen. Anschließend können sie die Ausbildung zum Fully Qualified Professional mit Modul II fortsetzen.
URL:https://traumjob-golfplatz.de/event/beginn-pga-modulausbildung-i-ausbildung-golflehrer-2/
CATEGORIES:Sport
ORGANIZER;CN="PGA of Germany":MAILTO:info@pga.de
END:VEVENT
BEGIN:VEVENT
DTSTART;TZID=Europe/Berlin:20251114T000000
DTEND;TZID=Europe/Berlin:20251114T000000
DTSTAMP:20260424T175207
CREATED:20251030T080145Z
LAST-MODIFIED:20251030T085953Z
UID:10000068-1763078400-1763078400@traumjob-golfplatz.de
SUMMARY:PGA Ausbildung zum Golflehrer: Eingangstest
DESCRIPTION:Der Eingangstest ist neben dem PreCourse bzw. einer gültigen C-Trainer-Lizenz Golf eine Zulassungsvoraussetzung für die PGA Modulausbildung zum Golflehrer. Es werden Fragen zum Regelwissen sowie zu golftechnischen Grundlagen gestellt.
URL:https://traumjob-golfplatz.de/event/pga-ausbildung-zum-golflehrer-eingangstest/
LOCATION:online\, Germany
CATEGORIES:Sport
ORGANIZER;CN="PGA of Germany":MAILTO:info@pga.de
END:VEVENT
BEGIN:VEVENT
DTSTART;VALUE=DATE:20251023
DTEND;VALUE=DATE:20251027
DTSTAMP:20260424T175207
CREATED:20250613T111720Z
LAST-MODIFIED:20250613T133544Z
UID:10000052-1761177600-1761523199@traumjob-golfplatz.de
SUMMARY:PGA PreCourse - Tutorenseminar 2 (inkl. Prüfung)
DESCRIPTION:Der PGA PreCourse bereitet Interessenten auf die Ausbildung zum PGA Professional vor. Er vermittelt Kompetenzen für die Erteilung von Kinder- und Jugendtraining sowie grundlegendes Know-how für die Ausübung des Golflehrerberufs und beinhaltet auch die C-Trainer-Lizenz Golf Breitensport. Der PGA PreCourse besteht aus insgesamt zwei Präsenzseminaren\, einem Online-Seminar und zwei praktischen Ausbildungswochenenden (Tutorenseminare). Der Preis gilt für den gesamten Kurs\, die Seminare sind nicht einzeln buchbar.
URL:https://traumjob-golfplatz.de/event/__trashed-37/
LOCATION:Die Tutorenseminare finden in Kleingruppen statt und werden an drei bis vier Orten durchgeführt\, die sich auf das Bundesgebiet verteilen. Die Zuteilung der Teilnehmer erfolgt durch die PGA und orientiert sich an den Postleitzahlen der Wohnorte.\, Germany
CATEGORIES:Sport
ORGANIZER;CN="PGA of Germany":MAILTO:info@pga.de
END:VEVENT
BEGIN:VEVENT
DTSTART;VALUE=DATE:20251002
DTEND;VALUE=DATE:20251006
DTSTAMP:20260424T175207
CREATED:20250613T111720Z
LAST-MODIFIED:20250613T133519Z
UID:10000051-1759363200-1759708799@traumjob-golfplatz.de
SUMMARY:PGA PreCourse - Präsenzseminar 2
DESCRIPTION:Der PGA PreCourse bereitet Interessenten auf die Ausbildung zum PGA Professional vor. Er vermittelt Kompetenzen für die Erteilung von Kinder- und Jugendtraining sowie grundlegendes Know-how für die Ausübung des Golflehrerberufs und beinhaltet auch die C-Trainer-Lizenz Golf Breitensport. Der PGA PreCourse besteht aus insgesamt zwei Präsenzseminaren\, einem Online-Seminar und zwei praktischen Ausbildungswochenenden (Tutorenseminare). Der Preis gilt für den gesamten Kurs\, die Seminare sind nicht einzeln buchbar.
URL:https://traumjob-golfplatz.de/event/__trashed-33/
LOCATION:Golfclub Teutoburger Wald\, Eggeberger Str. 13\, Halle/Westfalen\, 33790.0\, Germany
CATEGORIES:Sport
ORGANIZER;CN="PGA of Germany":MAILTO:info@pga.de
END:VEVENT
BEGIN:VEVENT
DTSTART;VALUE=DATE:20250919
DTEND;VALUE=DATE:20250922
DTSTAMP:20260424T175207
CREATED:20250613T111720Z
LAST-MODIFIED:20250613T133452Z
UID:10000050-1758240000-1758499199@traumjob-golfplatz.de
SUMMARY:PGA PreCourse - Tutorenseminar 1
DESCRIPTION:Der PGA PreCourse bereitet Interessenten auf die Ausbildung zum PGA Professional vor. Er vermittelt Kompetenzen für die Erteilung von Kinder- und Jugendtraining sowie grundlegendes Know-how für die Ausübung des Golflehrerberufs und beinhaltet auch die C-Trainer-Lizenz Golf Breitensport. Der PGA PreCourse besteht aus insgesamt zwei Präsenzseminaren\, einem Online-Seminar und zwei praktischen Ausbildungswochenenden (Tutorenseminare). Der Preis gilt für den gesamten Kurs\, die Seminare sind nicht einzeln buchbar.
URL:https://traumjob-golfplatz.de/event/__trashed-35/
LOCATION:Die Tutorenseminare finden in Kleingruppen statt und werden an drei bis vier Orten durchgeführt\, die sich auf das Bundesgebiet verteilen. Die Zuteilung der Teilnehmer erfolgt durch die PGA und orientiert sich an den Postleitzahlen der Wohnorte.\, Germany
CATEGORIES:Sport
ORGANIZER;CN="PGA of Germany":MAILTO:info@pga.de
END:VEVENT
BEGIN:VEVENT
DTSTART;VALUE=DATE:20250904
DTEND;VALUE=DATE:20250907
DTSTAMP:20260424T175207
CREATED:20250613T111720Z
LAST-MODIFIED:20250613T133422Z
UID:10000049-1756944000-1757203199@traumjob-golfplatz.de
SUMMARY:PGA PreCourse - Onlineseminar
DESCRIPTION:Der PGA PreCourse bereitet Interessenten auf die Ausbildung zum PGA Professional vor. Er vermittelt Kompetenzen für die Erteilung von Kinder- und Jugendtraining sowie grundlegendes Know-how für die Ausübung des Golflehrerberufs und beinhaltet auch die C-Trainer-Lizenz Golf Breitensport. Der PGA PreCourse besteht aus insgesamt zwei Präsenzseminaren\, einem Online-Seminar und zwei praktischen Ausbildungswochenenden (Tutorenseminare). Der Preis gilt für den gesamten Kurs\, die Seminare sind nicht einzeln buchbar.
URL:https://traumjob-golfplatz.de/event/__trashed-29/
LOCATION:online\, Germany
CATEGORIES:Sport
ORGANIZER;CN="PGA of Germany":MAILTO:info@pga.de
END:VEVENT
BEGIN:VEVENT
DTSTART;VALUE=DATE:20250807
DTEND;VALUE=DATE:20250811
DTSTAMP:20260424T175207
CREATED:20250613T111720Z
LAST-MODIFIED:20250613T133346Z
UID:10000048-1754524800-1754870399@traumjob-golfplatz.de
SUMMARY:PGA PreCourse - Präsenzseminar 1
DESCRIPTION:Der PGA PreCourse bereitet Interessenten auf die Ausbildung zum PGA Professional vor. Er vermittelt Kompetenzen für die Erteilung von Kinder- und Jugendtraining sowie grundlegendes Know-how für die Ausübung des Golflehrerberufs und beinhaltet auch die C-Trainer-Lizenz Golf Breitensport. Der PGA PreCourse besteht aus insgesamt zwei Präsenzseminaren\, einem Online-Seminar und zwei praktischen Ausbildungswochenenden (Tutorenseminare). Der Preis gilt für den gesamten Kurs\, die Seminare sind nicht einzeln buchbar.
URL:https://traumjob-golfplatz.de/event/__trashed-31/
LOCATION:Sporthotel Grünberg\, Am Tannenkopf 1\, Grünberg\, 35305.0\, Germany
CATEGORIES:Sport
ORGANIZER;CN="PGA of Germany":MAILTO:info@pga.de
END:VEVENT
END:VCALENDAR