BEGIN:VCALENDAR
VERSION:2.0
PRODID:-//Traumjob Golfplatz - ECPv6.15.12.2//NONSGML v1.0//EN
CALSCALE:GREGORIAN
METHOD:PUBLISH
X-ORIGINAL-URL:https://traumjob-golfplatz.de
X-WR-CALDESC:Veranstaltungen für Traumjob Golfplatz
REFRESH-INTERVAL;VALUE=DURATION:PT1H
X-Robots-Tag:noindex
X-PUBLISHED-TTL:PT1H
BEGIN:VTIMEZONE
TZID:Europe/Berlin
BEGIN:DAYLIGHT
TZOFFSETFROM:+0100
TZOFFSETTO:+0200
TZNAME:CEST
DTSTART:20240331T010000
END:DAYLIGHT
BEGIN:STANDARD
TZOFFSETFROM:+0200
TZOFFSETTO:+0100
TZNAME:CET
DTSTART:20241027T010000
END:STANDARD
BEGIN:DAYLIGHT
TZOFFSETFROM:+0100
TZOFFSETTO:+0200
TZNAME:CEST
DTSTART:20250330T010000
END:DAYLIGHT
BEGIN:STANDARD
TZOFFSETFROM:+0200
TZOFFSETTO:+0100
TZNAME:CET
DTSTART:20251026T010000
END:STANDARD
BEGIN:DAYLIGHT
TZOFFSETFROM:+0100
TZOFFSETTO:+0200
TZNAME:CEST
DTSTART:20260329T010000
END:DAYLIGHT
BEGIN:STANDARD
TZOFFSETFROM:+0200
TZOFFSETTO:+0100
TZNAME:CET
DTSTART:20261025T010000
END:STANDARD
BEGIN:DAYLIGHT
TZOFFSETFROM:+0100
TZOFFSETTO:+0200
TZNAME:CEST
DTSTART:20270328T010000
END:DAYLIGHT
BEGIN:STANDARD
TZOFFSETFROM:+0200
TZOFFSETTO:+0100
TZNAME:CET
DTSTART:20271031T010000
END:STANDARD
END:VTIMEZONE
BEGIN:VEVENT
DTSTART;VALUE=DATE:20260413
DTEND;VALUE=DATE:20260418
DTSTAMP:20260424T190720
CREATED:20250613T111719Z
LAST-MODIFIED:20250613T132147Z
UID:10000039-1776038400-1776470399@traumjob-golfplatz.de
SUMMARY:Fußball Platzwart Aufbaukurs II in Kooperation mit dem DFB
DESCRIPTION:Der Kurs für alle\, die berufliche Verantwortung für Rasen tragen. Ob Quereinsteiger\, Vereinsplatzwarte oder Mitarbeiter:innen von großen GaLaBau-Betrieben – hier sind alle richtig. Die Teilnehmenden erhalten von erfahrenen Experten einen Gesamtüberblick über die allgemeine Pflegesystematik von Rasensportflächen sowie Einblicke in sinnvolle und kostensenkende Maßnahmen zur Regeneration\, Renovation und zu nachhaltiger\, erfolgreicher Pflege. Der Kurs wurde in Kooperation mit dem Deutschen Fußball-Bund (DFB) entwickelt und bietet fundiertes Fachwissen sowie praxisnahe Lösungen. (Einzeln oder als Paket buchbar: Grundkurs\, Aufbaukurs 1\, Aufbaukurs 2).
URL:https://traumjob-golfplatz.de/event/__trashed-11/
LOCATION:DEULA Bayern\, Wippenhauser Strasse 65\, Freising\, 85354.0\, Germany
CATEGORIES:Grüne Berufe
END:VEVENT
BEGIN:VEVENT
DTSTART;VALUE=DATE:20260323
DTEND;VALUE=DATE:20260328
DTSTAMP:20260424T190720
CREATED:20250613T111719Z
LAST-MODIFIED:20250613T132643Z
UID:10000038-1774224000-1774655999@traumjob-golfplatz.de
SUMMARY:Fußball Platzwart Aufbaukurs I in Kooperation mit dem DFB
DESCRIPTION:Der Kurs für alle\, die berufliche Verantwortung für Rasen tragen. Ob Quereinsteiger\, Vereinsplatzwarte oder Mitarbeiter:innen von großen GaLaBau-Betrieben – hier sind alle richtig. Die Teilnehmenden erhalten von erfahrenen Experten einen Gesamtüberblick über die allgemeine Pflegesystematik von Rasensportflächen sowie Einblicke in sinnvolle und kostensenkende Maßnahmen zur Regeneration\, Renovation und zu nachhaltiger\, erfolgreicher Pflege. Der Kurs wurde in Kooperation mit dem Deutschen Fußball-Bund (DFB) entwickelt und bietet fundiertes Fachwissen sowie praxisnahe Lösungen. (Einzeln oder als Paket buchbar: Grundkurs\, Aufbaukurs 1\, Aufbaukurs 2).
URL:https://traumjob-golfplatz.de/event/__trashed-9/
LOCATION:DEULA Bayern\, Wippenhauser Strasse 65\, Freising\, 85354.0\, Germany
CATEGORIES:Grüne Berufe
END:VEVENT
BEGIN:VEVENT
DTSTART;VALUE=DATE:20260302
DTEND;VALUE=DATE:20260314
DTSTAMP:20260424T190720
CREATED:20250613T111719Z
LAST-MODIFIED:20250613T132522Z
UID:10000036-1772409600-1773446399@traumjob-golfplatz.de
SUMMARY:Qualifizierter Platzarbeiter
DESCRIPTION:Dieser Kurs ist DER Einstieg in die Golfplatzpflege. Die Teilnehmer:innen erwerben von erfahrenen Referent:innen aus der grünen Rasen-Szene fachliche Grundkenntnisse im Umgang mit Maschinen\, Rasenpflege und Platzpflege sowie notwendiges Wissen zur eigenverantwortlichen Durchführung von verschiedenen Aufgabenbereichen auf dem Golfplatz. Verständliche Erklärungen und direkter Praxisbezug sorgen dafür\, dass Lernen Spaß macht.
URL:https://traumjob-golfplatz.de/event/__trashed-39/
LOCATION:DEULA Bayern\, Wippenhauser Strasse 65\, Freising\, 85354.0\, Germany
CATEGORIES:Grüne Berufe
END:VEVENT
BEGIN:VEVENT
DTSTART;VALUE=DATE:20250929
DTEND;VALUE=DATE:20251002
DTSTAMP:20260424T190720
CREATED:20250610T192230Z
LAST-MODIFIED:20250613T132446Z
UID:10000035-1759104000-1759363199@traumjob-golfplatz.de
SUMMARY:Qualitätsmanagement und Greenkeeping für Management und Head-Greenkeeper
DESCRIPTION:Ziel des Seminars ist die Vermittlung von Greenkeeping-Grundlagenwissen an interessiertes Management. Das Seminar vermittelt Einblicke in die Notwendigkeiten und Abläufe des Greenkeepings und arbeitet die Vorteile der Zusammenarbeit von Greenkeeping und Management heraus. Es bietet einen Einstieg\, um dem Management die Sprache von Head-Greenkeeper:innen\, Course-Manager:innen oder Course Superindentents verständlicher zu machen.
URL:https://traumjob-golfplatz.de/event/__trashed-41/
LOCATION:DEULA Bayern\, Wippenhauser Strasse 65\, Freising\, 85354.0\, Germany
CATEGORIES:Grüne Berufe
END:VEVENT
END:VCALENDAR